BEGIN:VCALENDAR
VERSION:2.0
PRODID:-//eventon.com NONSGML v1.0//EN
CALSCALE:GREGORIAN
METHOD:PUBLISH
BEGIN:VEVENT
UID:69e5a2c129cc7
DTSTAMP:20260420T035129Z
DTSTART:20170719T193000Z
DTEND:20170719T000000Z
LOCATION:Gereformeerde Bethelkerk Wijk 3-3\,  8321 EW Urk
SUMMARY:Zingen in de Zomer in de Bethelkerk - Urk
DESCRIPTION:Medewerkenden Het Urker Mannenkoor “Hallelujah” o.l.v. Bert
  Moll Harry Hamer\,  orgel e.a. &nbsp; Entree Gratis (collecte voor de onko
 sten) &nbsp; Meer info www.zingenindezomer.nl\nhttps://urkermannenkoor.nl/c
 oncerten/zingen-in-de-zomer-in-de-bethelkerk-urk/
URL:https://urkermannenkoor.nl/concerten/zingen-in-de-zomer-in-de-bethelkerk-urk/
END:VEVENT
END:VCALENDAR