BEGIN:VCALENDAR
VERSION:2.0
PRODID:-//eventon.com NONSGML v1.0//EN
CALSCALE:GREGORIAN
METHOD:PUBLISH
BEGIN:VEVENT
UID:69e8f8187393f
DTSTAMP:20260422T163224Z
DTSTART:20250806T173000Z
DTEND:20250806T215900Z
LOCATION:Gereformeerde Bethelkerk Urk Wijk 3-3\,  8321 EW Urk
SUMMARY:Zingen in de zomer Bethelkerk - Urk
DESCRIPTION:Medewerkenden:Urker Mannenkoor &#8220;Hallelujah&#8221; o.l.v. 
 Bert Moll Kaarten:De toegang is vrij. Er is een collecte voor de onkosten.\
 nhttps://urkermannenkoor.nl/concerten/zingen-in-de-zomer-2/
URL:https://urkermannenkoor.nl/concerten/zingen-in-de-zomer-2/
END:VEVENT
END:VCALENDAR