BEGIN:VCALENDAR
VERSION:2.0
PRODID:-//eventon.com NONSGML v1.0//EN
CALSCALE:GREGORIAN
METHOD:PUBLISH
BEGIN:VEVENT
UID:69e7498796420
DTSTAMP:20260421T095519Z
DTSTART:20261128T183000Z
DTEND:20261128T225900Z
LOCATION:Grote Kerk - Leerdam Kerkstraat 30\,  4141 AX Leerdam
SUMMARY:Concert Grote Kerk - Leerdam
DESCRIPTION:Medewerkenden:Urker Mannenkoor &#8220;Hallelujah&#8221; o.l.v. 
 Bert Moll Kaarten:\nhttps://urkermannenkoor.nl/concerten/concert-grote-kerk
 -leerdam/
URL:https://urkermannenkoor.nl/concerten/concert-grote-kerk-leerdam/
END:VEVENT
END:VCALENDAR