BEGIN:VCALENDAR
VERSION:2.0
PRODID:-//eventon.com NONSGML v1.0//EN
CALSCALE:GREGORIAN
METHOD:PUBLISH
BEGIN:VEVENT
UID:69e82e96ce1cf
DTSTAMP:20260422T021238Z
DTSTART:20261219T183000Z
DTEND:20261219T225900Z
LOCATION:Martinikerk\,  Groningen Martinikerkhof 3\,  9712 JG Groningen
SUMMARY:Kerstconcert Martinikerk - Groningen
DESCRIPTION:Medewerkenden:Urker Mannenkoor &#8220;Hallelujah&#8221;o.l.v. B
 ert MollJacob Schenk: orgel Kaarten:Kaarten kunt u bestellen via trueticket
 s.\nhttps://urkermannenkoor.nl/concerten/najaarsconcert-urker-mannenkoor-ha
 llelujah/
URL:https://urkermannenkoor.nl/concerten/najaarsconcert-urker-mannenkoor-hallelujah/
END:VEVENT
END:VCALENDAR