BEGIN:VCALENDAR
VERSION:2.0
PRODID:-//eventon.com NONSGML v1.0//EN
CALSCALE:GREGORIAN
METHOD:PUBLISH
BEGIN:VEVENT
UID:69e533eb8357f
DTSTAMP:20260419T195835Z
DTSTART:20211111T193000Z
DTEND:20211111T000000Z
LOCATION:Hervormde Kerk "De Ark" Vlechttuinen 4\,  8322 BA Urk
SUMMARY:Israël-studieavond in Kerkgebouw De Ark - Urk
DESCRIPTION:&nbsp; Informatie &nbsp; Op donderdag 11 november vindt er een 
 informatieavond plaats over Israël\,  met het thema Het Bijbelse hartland:
  Judea en Samaria. De avond wordt georganiseerd door Christenen voor Israë
 l. Spreker is ds. Henk Poot. Tijdens de avond zal er muziek ten gehore gebr
 acht worden door ons koor\,  onder[..]\nhttps://urkermannenkoor.nl/concerte
 n/israel-studieavond-in-kerkgebouw-de-ark-urk/
URL:https://urkermannenkoor.nl/concerten/israel-studieavond-in-kerkgebouw-de-ark-urk/
END:VEVENT
END:VCALENDAR