BEGIN:VCALENDAR
VERSION:2.0
PRODID:-//eventon.com NONSGML v1.0//EN
CALSCALE:GREGORIAN
METHOD:PUBLISH
BEGIN:VEVENT
UID:69eb5a08aa938
DTSTAMP:20260424T115448Z
DTSTART:20181110T193000Z
DTEND:20181110T000000Z
LOCATION:Immanuëlkerk - Urk Nagel 43\,  8321 RG Urk
SUMMARY:Optreden bij Israëlavond - Urk
DESCRIPTION:&nbsp; Medewerkenden Het Urker Mannenkoor &#8216;Hallelujah&#82
 17; o.l.v. Bert Moll Hineni Symfonie Orkest &nbsp; Toegang De toegang is gr
 atis. Wel is er een collecte voor de onkosten. De kerk opent om 19:00. Aanv
 ang is om 19:30 uur. &nbsp; Info Voor meer informatie kunt u mailen naar di
 rk@korf.nl. &nbsp;\nhttps://urkermannenkoor.nl/concerten/optreden-bij-israe
 lavond-urk/
URL:https://urkermannenkoor.nl/concerten/optreden-bij-israelavond-urk/
END:VEVENT
END:VCALENDAR