BEGIN:VCALENDAR
VERSION:2.0
PRODID:-//eventon.com NONSGML v1.0//EN
CALSCALE:GREGORIAN
METHOD:PUBLISH
BEGIN:VEVENT
UID:69e5bc3c8c82f
DTSTAMP:20260420T054012Z
DTSTART:20190608T183000Z
DTEND:20190608T000000Z
LOCATION:Gereformeerde Bethelkerk Urk Wijk 3-3\,  8321 EW Urk
SUMMARY:Urkerdagconcert in de Bethelkerk - Urk
DESCRIPTION:Medewerkenden Het Christelijk Urker Visserskoor “Crescendo”
  o.l.v. Louwe Kramer Het Urker Mannenkoor “Hallelujah” o.l.v. Bert Moll
  &nbsp; Meer informatie Telefoon: 0527-681910 E-mail: info@urkermannenkoor.
 nl Internet: www.urkermannenkoor.nl &nbsp; Entree Gratis &nbsp; Kerk open v
 anaf 18:00 uur\nhttps://urkermannenkoor.nl/concerten/urkerdagconcert-bethel
 kerk-urk/
URL:https://urkermannenkoor.nl/concerten/urkerdagconcert-bethelkerk-urk/
END:VEVENT
END:VCALENDAR